Workbook

Sheet Bảng lương
A1: BẢNG LƯƠNG THÁNG ……/……
A2: Ô nền vàng là ô nhập liệu; các ô còn lại tự tính. Mẫu do Kế toán Khang Hà biên soạn để tham khảo, hãy đối chiếu quy định và mẫu chính thức hiện hành trước khi dùng cho hồ sơ gửi cơ quan nhà nước.
A4: STT | B4: Họ và tên | C4: Vùng (1-4) | D4: Số người phụ thuộc | E4: Lương đóng BH | F4: Tổng thu nhập chịu thuế (Gross) | G4: BHXH+BHYT (NLĐ) | H4: BHTN (NLĐ) | I4: Thu nhập tính thuế | J4: Thuế TNCN | K4: Thực nhận (Net) | L4: BH phần doanh nghiệp | M4: Tổng chi phí doanh nghiệp
A5: 1 | B5: Ví dụ (xóa khi dùng) | C5: 1 | D5: 0 | E5: 30000000 | F5: 30000000 | G5: =IF($F5="","",MIN(E5,20*'Tham số'!$B$6)*('Tham số'!$B$11+'Tham số'!$B$12)) | H5: =IF($F5="","",MIN(E5,20*INDEX('Tham số'!$B$7:$B$10,C5))*'Tham số'!$B$13) | I5: =IF($F5="","",MAX(0,F5-G5-H5-'Tham số'!$B$4-D5*'Tham số'!$B$5)) | J5: =IF($F5="","",ROUND(MIN(I5,10000000)*0.05+MAX(0,MIN(I5,30000000)-10000000)*0.1+MAX(0,MIN(I5,60000000)-30000000)*0.2+MAX(0,MIN(I5,100000000)-60000000)*0.3+MAX(0,I5-100000000)*0.35,0)) | K5: =IF($F5="","",F5-G5-H5-J5) | L5: =IF($F5="","",ROUND(MIN(E5,20*'Tham số'!$B$6)*('Tham số'!$B$14+'Tham số'!$B$15+'Tham số'!$B$17)+MIN(E5,20*INDEX('Tham số'!$B$7:$B$10,C5))*'Tham số'!$B$16,0)) | M5: =IF($F5="","",F5+L5)
A6: 2 | G6: =IF($F6="","",MIN(E6,20*'Tham số'!$B$6)*('Tham số'!$B$11+'Tham số'!$B$12)) | H6: =IF($F6="","",MIN(E6,20*INDEX('Tham số'!$B$7:$B$10,C6))*'Tham số'!$B$13) | I6: =IF($F6="","",MAX(0,F6-G6-H6-'Tham số'!$B$4-D6*'Tham số'!$B$5)) | J6: =IF($F6="","",ROUND(MIN(I6,10000000)*0.05+MAX(0,MIN(I6,30000000)-10000000)*0.1+MAX(0,MIN(I6,60000000)-30000000)*0.2+MAX(0,MIN(I6,100000000)-60000000)*0.3+MAX(0,I6-100000000)*0.35,0)) | K6: =IF($F6="","",F6-G6-H6-J6) | L6: =IF($F6="","",ROUND(MIN(E6,20*'Tham số'!$B$6)*('Tham số'!$B$14+'Tham số'!$B$15+'Tham số'!$B$17)+MIN(E6,20*INDEX('Tham số'!$B$7:$B$10,C6))*'Tham số'!$B$16,0)) | M6: =IF($F6="","",F6+L6)
A7: 3 | G7: =IF($F7="","",MIN(E7,20*'Tham số'!$B$6)*('Tham số'!$B$11+'Tham số'!$B$12)) | H7: =IF($F7="","",MIN(E7,20*INDEX('Tham số'!$B$7:$B$10,C7))*'Tham số'!$B$13) | I7: =IF($F7="","",MAX(0,F7-G7-H7-'Tham số'!$B$4-D7*'Tham số'!$B$5)) | J7: =IF($F7="","",ROUND(MIN(I7,10000000)*0.05+MAX(0,MIN(I7,30000000)-10000000)*0.1+MAX(0,MIN(I7,60000000)-30000000)*0.2+MAX(0,MIN(I7,100000000)-60000000)*0.3+MAX(0,I7-100000000)*0.35,0)) | K7: =IF($F7="","",F7-G7-H7-J7) | L7: =IF($F7="","",ROUND(MIN(E7,20*'Tham số'!$B$6)*('Tham số'!$B$14+'Tham số'!$B$15+'Tham số'!$B$17)+MIN(E7,20*INDEX('Tham số'!$B$7:$B$10,C7))*'Tham số'!$B$16,0)) | M7: =IF($F7="","",F7+L7)
A8: 4 | G8: =IF($F8="","",MIN(E8,20*'Tham số'!$B$6)*('Tham số'!$B$11+'Tham số'!$B$12)) | H8: =IF($F8="","",MIN(E8,20*INDEX('Tham số'!$B$7:$B$10,C8))*'Tham số'!$B$13) | I8: =IF($F8="","",MAX(0,F8-G8-H8-'Tham số'!$B$4-D8*'Tham số'!$B$5)) | J8: =IF($F8="","",ROUND(MIN(I8,10000000)*0.05+MAX(0,MIN(I8,30000000)-10000000)*0.1+MAX(0,MIN(I8,60000000)-30000000)*0.2+MAX(0,MIN(I8,100000000)-60000000)*0.3+MAX(0,I8-100000000)*0.35,0)) | K8: =IF($F8="","",F8-G8-H8-J8) | L8: =IF($F8="","",ROUND(MIN(E8,20*'Tham số'!$B$6)*('Tham số'!$B$14+'Tham số'!$B$15+'Tham số'!$B$17)+MIN(E8,20*INDEX('Tham số'!$B$7:$B$10,C8))*'Tham số'!$B$16,0)) | M8: =IF($F8="","",F8+L8)
A9: 5 | G9: =IF($F9="","",MIN(E9,20*'Tham số'!$B$6)*('Tham số'!$B$11+'Tham số'!$B$12)) | H9: =IF($F9="","",MIN(E9,20*INDEX('Tham số'!$B$7:$B$10,C9))*'Tham số'!$B$13) | I9: =IF($F9="","",MAX(0,F9-G9-H9-'Tham số'!$B$4-D9*'Tham số'!$B$5)) | J9: =IF($F9="","",ROUND(MIN(I9,10000000)*0.05+MAX(0,MIN(I9,30000000)-10000000)*0.1+MAX(0,MIN(I9,60000000)-30000000)*0.2+MAX(0,MIN(I9,100000000)-60000000)*0.3+MAX(0,I9-100000000)*0.35,0)) | K9: =IF($F9="","",F9-G9-H9-J9) | L9: =IF($F9="","",ROUND(MIN(E9,20*'Tham số'!$B$6)*('Tham số'!$B$14+'Tham số'!$B$15+'Tham số'!$B$17)+MIN(E9,20*INDEX('Tham số'!$B$7:$B$10,C9))*'Tham số'!$B$16,0)) | M9: =IF($F9="","",F9+L9)
A10: 6 | G10: =IF($F10="","",MIN(E10,20*'Tham số'!$B$6)*('Tham số'!$B$11+'Tham số'!$B$12)) | H10: =IF($F10="","",MIN(E10,20*INDEX('Tham số'!$B$7:$B$10,C10))*'Tham số'!$B$13) | I10: =IF($F10="","",MAX(0,F10-G10-H10-'Tham số'!$B$4-D10*'Tham số'!$B$5)) | J10: =IF($F10="","",ROUND(MIN(I10,10000000)*0.05+MAX(0,MIN(I10,30000000)-10000000)*0.1+MAX(0,MIN(I10,60000000)-30000000)*0.2+MAX(0,MIN(I10,100000000)-60000000)*0.3+MAX(0,I10-100000000)*0.35,0)) | K10: =IF($F10="","",F10-G10-H10-J10) | L10: =IF($F10="","",ROUND(MIN(E10,20*'Tham số'!$B$6)*('Tham số'!$B$14+'Tham số'!$B$15+'Tham số'!$B$17)+MIN(E10,20*INDEX('Tham số'!$B$7:$B$10,C10))*'Tham số'!$B$16,0)) | M10: =IF($F10="","",F10+L10)
A11: 7 | G11: =IF($F11="","",MIN(E11,20*'Tham số'!$B$6)*('Tham số'!$B$11+'Tham số'!$B$12)) | H11: =IF($F11="","",MIN(E11,20*INDEX('Tham số'!$B$7:$B$10,C11))*'Tham số'!$B$13) | I11: =IF($F11="","",MAX(0,F11-G11-H11-'Tham số'!$B$4-D11*'Tham số'!$B$5)) | J11: =IF($F11="","",ROUND(MIN(I11,10000000)*0.05+MAX(0,MIN(I11,30000000)-10000000)*0.1+MAX(0,MIN(I11,60000000)-30000000)*0.2+MAX(0,MIN(I11,100000000)-60000000)*0.3+MAX(0,I11-100000000)*0.35,0)) | K11: =IF($F11="","",F11-G11-H11-J11) | L11: =IF($F11="","",ROUND(MIN(E11,20*'Tham số'!$B$6)*('Tham số'!$B$14+'Tham số'!$B$15+'Tham số'!$B$17)+MIN(E11,20*INDEX('Tham số'!$B$7:$B$10,C11))*'Tham số'!$B$16,0)) | M11: =IF($F11="","",F11+L11)
A12: 8 | G12: =IF($F12="","",MIN(E12,20*'Tham số'!$B$6)*('Tham số'!$B$11+'Tham số'!$B$12)) | H12: =IF($F12="","",MIN(E12,20*INDEX('Tham số'!$B$7:$B$10,C12))*'Tham số'!$B$13) | I12: =IF($F12="","",MAX(0,F12-G12-H12-'Tham số'!$B$4-D12*'Tham số'!$B$5)) | J12: =IF($F12="","",ROUND(MIN(I12,10000000)*0.05+MAX(0,MIN(I12,30000000)-10000000)*0.1+MAX(0,MIN(I12,60000000)-30000000)*0.2+MAX(0,MIN(I12,100000000)-60000000)*0.3+MAX(0,I12-100000000)*0.35,0)) | K12: =IF($F12="","",F12-G12-H12-J12) | L12: =IF($F12="","",ROUND(MIN(E12,20*'Tham số'!$B$6)*('Tham số'!$B$14+'Tham số'!$B$15+'Tham số'!$B$17)+MIN(E12,20*INDEX('Tham số'!$B$7:$B$10,C12))*'Tham số'!$B$16,0)) | M12: =IF($F12="","",F12+L12)
A13: 9 | G13: =IF($F13="","",MIN(E13,20*'Tham số'!$B$6)*('Tham số'!$B$11+'Tham số'!$B$12)) | H13: =IF($F13="","",MIN(E13,20*INDEX('Tham số'!$B$7:$B$10,C13))*'Tham số'!$B$13) | I13: =IF($F13="","",MAX(0,F13-G13-H13-'Tham số'!$B$4-D13*'Tham số'!$B$5)) | J13: =IF($F13="","",ROUND(MIN(I13,10000000)*0.05+MAX(0,MIN(I13,30000000)-10000000)*0.1+MAX(0,MIN(I13,60000000)-30000000)*0.2+MAX(0,MIN(I13,100000000)-60000000)*0.3+MAX(0,I13-100000000)*0.35,0)) | K13: =IF($F13="","",F13-G13-H13-J13) | L13: =IF($F13="","",ROUND(MIN(E13,20*'Tham số'!$B$6)*('Tham số'!$B$14+'Tham số'!$B$15+'Tham số'!$B$17)+MIN(E13,20*INDEX('Tham số'!$B$7:$B$10,C13))*'Tham số'!$B$16,0)) | M13: =IF($F13="","",F13+L13)
A14: 10 | G14: =IF($F14="","",MIN(E14,20*'Tham số'!$B$6)*('Tham số'!$B$11+'Tham số'!$B$12)) | H14: =IF($F14="","",MIN(E14,20*INDEX('Tham số'!$B$7:$B$10,C14))*'Tham số'!$B$13) | I14: =IF($F14="","",MAX(0,F14-G14-H14-'Tham số'!$B$4-D14*'Tham số'!$B$5)) | J14: =IF($F14="","",ROUND(MIN(I14,10000000)*0.05+MAX(0,MIN(I14,30000000)-10000000)*0.1+MAX(0,MIN(I14,60000000)-30000000)*0.2+MAX(0,MIN(I14,100000000)-60000000)*0.3+MAX(0,I14-100000000)*0.35,0)) | K14: =IF($F14="","",F14-G14-H14-J14) | L14: =IF($F14="","",ROUND(MIN(E14,20*'Tham số'!$B$6)*('Tham số'!$B$14+'Tham số'!$B$15+'Tham số'!$B$17)+MIN(E14,20*INDEX('Tham số'!$B$7:$B$10,C14))*'Tham số'!$B$16,0)) | M14: =IF($F14="","",F14+L14)
A15: 11 | G15: =IF($F15="","",MIN(E15,20*'Tham số'!$B$6)*('Tham số'!$B$11+'Tham số'!$B$12)) | H15: =IF($F15="","",MIN(E15,20*INDEX('Tham số'!$B$7:$B$10,C15))*'Tham số'!$B$13) | I15: =IF($F15="","",MAX(0,F15-G15-H15-'Tham số'!$B$4-D15*'Tham số'!$B$5)) | J15: =IF($F15="","",ROUND(MIN(I15,10000000)*0.05+MAX(0,MIN(I15,30000000)-10000000)*0.1+MAX(0,MIN(I15,60000000)-30000000)*0.2+MAX(0,MIN(I15,100000000)-60000000)*0.3+MAX(0,I15-100000000)*0.35,0)) | K15: =IF($F15="","",F15-G15-H15-J15) | L15: =IF($F15="","",ROUND(MIN(E15,20*'Tham số'!$B$6)*('Tham số'!$B$14+'Tham số'!$B$15+'Tham số'!$B$17)+MIN(E15,20*INDEX('Tham số'!$B$7:$B$10,C15))*'Tham số'!$B$16,0)) | M15: =IF($F15="","",F15+L15)
A16: 12 | G16: =IF($F16="","",MIN(E16,20*'Tham số'!$B$6)*('Tham số'!$B$11+'Tham số'!$B$12)) | H16: =IF($F16="","",MIN(E16,20*INDEX('Tham số'!$B$7:$B$10,C16))*'Tham số'!$B$13) | I16: =IF($F16="","",MAX(0,F16-G16-H16-'Tham số'!$B$4-D16*'Tham số'!$B$5)) | J16: =IF($F16="","",ROUND(MIN(I16,10000000)*0.05+MAX(0,MIN(I16,30000000)-10000000)*0.1+MAX(0,MIN(I16,60000000)-30000000)*0.2+MAX(0,MIN(I16,100000000)-60000000)*0.3+MAX(0,I16-100000000)*0.35,0)) | K16: =IF($F16="","",F16-G16-H16-J16) | L16: =IF($F16="","",ROUND(MIN(E16,20*'Tham số'!$B$6)*('Tham số'!$B$14+'Tham số'!$B$15+'Tham số'!$B$17)+MIN(E16,20*INDEX('Tham số'!$B$7:$B$10,C16))*'Tham số'!$B$16,0)) | M16: =IF($F16="","",F16+L16)
A17: 13 | G17: =IF($F17="","",MIN(E17,20*'Tham số'!$B$6)*('Tham số'!$B$11+'Tham số'!$B$12)) | H17: =IF($F17="","",MIN(E17,20*INDEX('Tham số'!$B$7:$B$10,C17))*'Tham số'!$B$13) | I17: =IF($F17="","",MAX(0,F17-G17-H17-'Tham số'!$B$4-D17*'Tham số'!$B$5)) | J17: =IF($F17="","",ROUND(MIN(I17,10000000)*0.05+MAX(0,MIN(I17,30000000)-10000000)*0.1+MAX(0,MIN(I17,60000000)-30000000)*0.2+MAX(0,MIN(I17,100000000)-60000000)*0.3+MAX(0,I17-100000000)*0.35,0)) | K17: =IF($F17="","",F17-G17-H17-J17) | L17: =IF($F17="","",ROUND(MIN(E17,20*'Tham số'!$B$6)*('Tham số'!$B$14+'Tham số'!$B$15+'Tham số'!$B$17)+MIN(E17,20*INDEX('Tham số'!$B$7:$B$10,C17))*'Tham số'!$B$16,0)) | M17: =IF($F17="","",F17+L17)
... A44: 40 | G44: =IF($F44="","",MIN(E44,20*'Tham số'!$B$6)*('Tham số'!$B$11+'Tham số'!$B$12)) | H44: =IF($F44="","",MIN(E44,20*INDEX('Tham số'!$B$7:$B$10,C44))*'Tham số'!$B$13) | I44: =IF($F44="","",MAX(0,F44-G44-H44-'Tham số'!$B$4-D44*'Tham số'!$B$5)) | J44: =IF($F44="","",ROUND(MIN(I44,10000000)*0.05+MAX(0,MIN(I44,30000000)-10000000)*0.1+MAX(0,MIN(I44,60000000)-30000000)*0.2+MAX(0,MIN(I44,100000000)-60000000)*0.3+MAX(0,I44-100000000)*0.35,0)) | K44: =IF($F44="","",F44-G44-H44-J44) | L44: =IF($F44="","",ROUND(MIN(E44,20*'Tham số'!$B$6)*('Tham số'!$B$14+'Tham số'!$B$15+'Tham số'!$B$17)+MIN(E44,20*INDEX('Tham số'!$B$7:$B$10,C44))*'Tham số'!$B$16,0)) | M44: =IF($F44="","",F44+L44)
A45: Cộng | E45: =SUM(E5:E44) | F45: =SUM(F5:F44) | G45: =SUM(G5:G44) | H45: =SUM(H5:H44) | I45: =SUM(I5:I44) | J45: =SUM(J5:J44) | K45: =SUM(K5:K44) | L45: =SUM(L5:L44) | M45: =SUM(M5:M44)
A47: Biểu thuế lũy tiến áp dụng theo tháng: đến 10 triệu 5%; trên 10 đến 30 triệu 10%; trên 30 đến 60 triệu 20%; trên 60 đến 100 triệu 30%; trên 100 triệu 35% (biểu mới từ kỳ tính thuế 2026, đối chiếu văn bản hiện hành). Dòng ví dụ phải cho Net = 26.215.000.

Sheet Tham số
A1: THAM SỐ TÍNH LƯƠNG VÀ BẢO HIỂM
A2: Sửa các giá trị ở đây khi chính sách thay đổi; bảng lương tự cập nhật.
A3: Tham số | B3: Giá trị | C3: Ghi chú
A4: Giảm trừ gia cảnh bản thân/tháng | B4: 15500000 | C4: NQ 110/2025/UBTVQH15, kiểm tra văn bản hiện hành
A5: Giảm trừ mỗi người phụ thuộc/tháng | B5: 6200000 | C5: NQ 110/2025/UBTVQH15
A6: Lương cơ sở | B6: 2530000 | C6: Từ 01/07/2026 (NĐ 161/2026/NĐ-CP); đến 30/06/2026 là 2.340.000
A7: Lương tối thiểu vùng I | B7: 5310000 | C7: NĐ 293/2025/NĐ-CP, từ 01/01/2026
A8: Lương tối thiểu vùng II | B8: 4730000
A9: Lương tối thiểu vùng III | B9: 4140000
A10: Lương tối thiểu vùng IV | B10: 3700000
A11: BHXH – người lao động | B11: 0.08
A12: BHYT – người lao động | B12: 0.015
A13: BHTN – người lao động | B13: 0.01
A14: BHXH – doanh nghiệp | B14: 0.175
A15: BHYT – doanh nghiệp | B15: 0.03
A16: BHTN – doanh nghiệp | B16: 0.01
A17: BHTNLĐ-BNN – doanh nghiệp | B17: 0.005 | C17: Mặc định 0,5%, sửa theo mức đơn vị được áp dụng
